BEGIN:VCALENDAR
VERSION:2.0
PRODID:-//Communauté de Communes Romorantinais et Monestois - ECPv6.15.20//NONSGML v1.0//EN
CALSCALE:GREGORIAN
METHOD:PUBLISH
X-WR-CALNAME:Communauté de Communes Romorantinais et Monestois
X-ORIGINAL-URL:https://ccrm41.fr
X-WR-CALDESC:Évènements pour Communauté de Communes Romorantinais et Monestois
REFRESH-INTERVAL;VALUE=DURATION:PT1H
X-Robots-Tag:noindex
X-PUBLISHED-TTL:PT1H
BEGIN:VTIMEZONE
TZID:Europe/Paris
BEGIN:DAYLIGHT
TZOFFSETFROM:+0100
TZOFFSETTO:+0200
TZNAME:CEST
DTSTART:20240331T010000
END:DAYLIGHT
BEGIN:STANDARD
TZOFFSETFROM:+0200
TZOFFSETTO:+0100
TZNAME:CET
DTSTART:20241027T010000
END:STANDARD
BEGIN:DAYLIGHT
TZOFFSETFROM:+0100
TZOFFSETTO:+0200
TZNAME:CEST
DTSTART:20250330T010000
END:DAYLIGHT
BEGIN:STANDARD
TZOFFSETFROM:+0200
TZOFFSETTO:+0100
TZNAME:CET
DTSTART:20251026T010000
END:STANDARD
BEGIN:DAYLIGHT
TZOFFSETFROM:+0100
TZOFFSETTO:+0200
TZNAME:CEST
DTSTART:20260329T010000
END:DAYLIGHT
BEGIN:STANDARD
TZOFFSETFROM:+0200
TZOFFSETTO:+0100
TZNAME:CET
DTSTART:20261025T010000
END:STANDARD
END:VTIMEZONE
BEGIN:VEVENT
DTSTART;TZID=Europe/Paris:20250916T140000
DTEND;TZID=Europe/Paris:20250916T170000
DTSTAMP:20260426T060102
CREATED:20250611T112748Z
LAST-MODIFIED:20250611T112907Z
UID:9158-1758031200-1758042000@ccrm41.fr
SUMMARY:Journée de sensibilisation aux dépistages des cancers
DESCRIPTION:Dans le cadre du Contrat Local de Santé\, une action de sensibilisation aux dépistages des cancers se tiendra le : \n📅 Mardi 16 septembre 2025De 14h à 17h \n👉 Au programme :14h30 : Théâtre interactif15h30 : Forum des acteurs du dépistage
URL:https://ccrm41.fr/event/journee-de-sensibilisation-aux-depistage-des-cancers/
LOCATION:Salle du centre de loisirs\, 91 rue des papillons\, Romorantin-Lanthenay\, 41200
ATTACH;FMTTYPE=image/jpeg:https://ccrm41.fr/wp-content/uploads/2025/06/depistage-cancer-feminin-16-septembre-2025_page-0001.jpg
END:VEVENT
END:VCALENDAR