BEGIN:VCALENDAR
VERSION:2.0
PRODID:-//Communauté de Communes Romorantinais et Monestois - ECPv6.15.20//NONSGML v1.0//EN
CALSCALE:GREGORIAN
METHOD:PUBLISH
X-ORIGINAL-URL:https://ccrm41.fr
X-WR-CALDESC:Évènements pour Communauté de Communes Romorantinais et Monestois
REFRESH-INTERVAL;VALUE=DURATION:PT1H
X-Robots-Tag:noindex
X-PUBLISHED-TTL:PT1H
BEGIN:VTIMEZONE
TZID:Europe/Paris
BEGIN:DAYLIGHT
TZOFFSETFROM:+0100
TZOFFSETTO:+0200
TZNAME:CEST
DTSTART:20240331T010000
END:DAYLIGHT
BEGIN:STANDARD
TZOFFSETFROM:+0200
TZOFFSETTO:+0100
TZNAME:CET
DTSTART:20241027T010000
END:STANDARD
BEGIN:DAYLIGHT
TZOFFSETFROM:+0100
TZOFFSETTO:+0200
TZNAME:CEST
DTSTART:20250330T010000
END:DAYLIGHT
BEGIN:STANDARD
TZOFFSETFROM:+0200
TZOFFSETTO:+0100
TZNAME:CET
DTSTART:20251026T010000
END:STANDARD
BEGIN:DAYLIGHT
TZOFFSETFROM:+0100
TZOFFSETTO:+0200
TZNAME:CEST
DTSTART:20260329T010000
END:DAYLIGHT
BEGIN:STANDARD
TZOFFSETFROM:+0200
TZOFFSETTO:+0100
TZNAME:CET
DTSTART:20261025T010000
END:STANDARD
END:VTIMEZONE
BEGIN:VEVENT
DTSTART;TZID=Europe/Paris:20251001T180000
DTEND;TZID=Europe/Paris:20251001T180000
DTSTAMP:20260426T041605
CREATED:20250925T080006Z
LAST-MODIFIED:20250925T080305Z
UID:10155-1759341600-1759341600@ccrm41.fr
SUMMARY:Ensemble racontons notre histoire
DESCRIPTION:Lecture et vernissagePrésentation de l’ouvrage écrit suite aux ateliers d’écriture menés par Jean-Claude Botton\, auteur. \nAvec la présence du Docteur Bruno HARNOIS\, en charge de la Santé pour la CCRM et du CLS. \n Le vernissage sera suivi d’un pot de convivialité. \nGratuit- Ouvert à toutes et tous \nRenseignements :Hélène Lecourt – 07 86 24 15 79📧 cls@ccrm41.fr
URL:https://ccrm41.fr/event/ensemble-racontons-notre-histoire/
LOCATION:Espace Robert Serrault\, 34 Mail des Platanes\, Romorantin-Lanthenay\, 41200
ATTACH;FMTTYPE=image/jpeg:https://ccrm41.fr/wp-content/uploads/2025/09/ERNH-Affiche-Vernissage-Romorantin-v5_page-0001.jpg
END:VEVENT
END:VCALENDAR