BEGIN:VCALENDAR
VERSION:2.0
PRODID:-//Communauté de Communes Romorantinais et Monestois - ECPv6.15.20//NONSGML v1.0//EN
CALSCALE:GREGORIAN
METHOD:PUBLISH
X-ORIGINAL-URL:https://ccrm41.fr
X-WR-CALDESC:Évènements pour Communauté de Communes Romorantinais et Monestois
REFRESH-INTERVAL;VALUE=DURATION:PT1H
X-Robots-Tag:noindex
X-PUBLISHED-TTL:PT1H
BEGIN:VTIMEZONE
TZID:Europe/Paris
BEGIN:DAYLIGHT
TZOFFSETFROM:+0100
TZOFFSETTO:+0200
TZNAME:CEST
DTSTART:20240331T010000
END:DAYLIGHT
BEGIN:STANDARD
TZOFFSETFROM:+0200
TZOFFSETTO:+0100
TZNAME:CET
DTSTART:20241027T010000
END:STANDARD
BEGIN:DAYLIGHT
TZOFFSETFROM:+0100
TZOFFSETTO:+0200
TZNAME:CEST
DTSTART:20250330T010000
END:DAYLIGHT
BEGIN:STANDARD
TZOFFSETFROM:+0200
TZOFFSETTO:+0100
TZNAME:CET
DTSTART:20251026T010000
END:STANDARD
BEGIN:DAYLIGHT
TZOFFSETFROM:+0100
TZOFFSETTO:+0200
TZNAME:CEST
DTSTART:20260329T010000
END:DAYLIGHT
BEGIN:STANDARD
TZOFFSETFROM:+0200
TZOFFSETTO:+0100
TZNAME:CET
DTSTART:20261025T010000
END:STANDARD
END:VTIMEZONE
BEGIN:VEVENT
DTSTART;TZID=Europe/Paris:20251006T094000
DTEND;TZID=Europe/Paris:20251006T094000
DTSTAMP:20260426T041606
CREATED:20250711T124835Z
LAST-MODIFIED:20250819T145456Z
UID:9775-1759743600-1759743600@ccrm41.fr
SUMMARY:SEMAINE BLEUE 2025 : Sortie spéciale seniors - Rdv sur place
DESCRIPTION:Le contrat local de la CCRM vous propose une visite guidée gratuite de la Maison Bleue 41 à BloisVenez découvrir un logement témoin adapté pour favoriser le maintien de l’autonomie à domicile ! \n🕘 Rendez-vous sur place à 9h40▶️ Début de la visite à 10h (durée : 1h30) \n⚠️ Places limitées à 12 personnes📲 Inscription auprès d’Hélène : 07 86 24 15 79 \nUne action de prévention et de sensibilisation pour mieux accompagner l’autonomie des seniors. \n📣 Partagez l’info autour de vous ! \n\n\nEn savoir plus – Semaine Bleue 2025
URL:https://ccrm41.fr/event/semaine-bleue-2025-sortie-speciale-seniors-2/
LOCATION:La Maison Bleue\, 32 Av. du Maréchal Maunoury\, Blois\, 41000
ATTACH;FMTTYPE=image/jpeg:https://ccrm41.fr/wp-content/uploads/2025/07/Semaine-bleue-7-oct-2025-sur-place_page-0001-1.jpg
END:VEVENT
END:VCALENDAR