BEGIN:VCALENDAR
VERSION:2.0
PRODID:-//Communauté de Communes Romorantinais et Monestois - ECPv6.15.20//NONSGML v1.0//EN
CALSCALE:GREGORIAN
METHOD:PUBLISH
X-WR-CALNAME:Communauté de Communes Romorantinais et Monestois
X-ORIGINAL-URL:https://ccrm41.fr
X-WR-CALDESC:Évènements pour Communauté de Communes Romorantinais et Monestois
REFRESH-INTERVAL;VALUE=DURATION:PT1H
X-Robots-Tag:noindex
X-PUBLISHED-TTL:PT1H
BEGIN:VTIMEZONE
TZID:Europe/Paris
BEGIN:DAYLIGHT
TZOFFSETFROM:+0100
TZOFFSETTO:+0200
TZNAME:CEST
DTSTART:20240331T010000
END:DAYLIGHT
BEGIN:STANDARD
TZOFFSETFROM:+0200
TZOFFSETTO:+0100
TZNAME:CET
DTSTART:20241027T010000
END:STANDARD
BEGIN:DAYLIGHT
TZOFFSETFROM:+0100
TZOFFSETTO:+0200
TZNAME:CEST
DTSTART:20250330T010000
END:DAYLIGHT
BEGIN:STANDARD
TZOFFSETFROM:+0200
TZOFFSETTO:+0100
TZNAME:CET
DTSTART:20251026T010000
END:STANDARD
BEGIN:DAYLIGHT
TZOFFSETFROM:+0100
TZOFFSETTO:+0200
TZNAME:CEST
DTSTART:20260329T010000
END:DAYLIGHT
BEGIN:STANDARD
TZOFFSETFROM:+0200
TZOFFSETTO:+0100
TZNAME:CET
DTSTART:20261025T010000
END:STANDARD
END:VTIMEZONE
BEGIN:VEVENT
DTSTART;TZID=Europe/Paris:20251009T091500
DTEND;TZID=Europe/Paris:20251009T091500
DTSTAMP:20260426T042544
CREATED:20250924T115630Z
LAST-MODIFIED:20250924T120148Z
UID:10135-1760001300-1760001300@ccrm41.fr
SUMMARY:Café échanges aux Favignolles
DESCRIPTION:Acti’Fav et l’Adie vous invitent à un moment convivial pour parler entrepreneuriat et création d’activité ! \nCréer son entreprise\, c’est créer son propre emploi ! Avec l’Adie\, chacun peut avoir accès à un financement et à un accompagnement adapté pour lancer son projet. \n👉 Vous avez une idée\, un projet ? Venez échanger avec l’Adie qui sera là pour vous aider. \nCet événement s’inscrit dans le cadre des actions de la politique de la ville menées sur le quartier des Favignolles. \nℹ️ Pour tout renseignement : Acti’Fav – 06 22 81 11 59
URL:https://ccrm41.fr/event/cafe-echanges-aux-favignolles/
LOCATION:Quartier des Favignolles\, 1 rue François Rabelais\, Romorantin Lanthenay\, 41200
ATTACH;FMTTYPE=image/jpeg:https://ccrm41.fr/wp-content/uploads/2025/09/Cafe-echanges-ActiFav.jpg
END:VEVENT
BEGIN:VEVENT
DTSTART;TZID=Europe/Paris:20251009T140000
DTEND;TZID=Europe/Paris:20251009T140000
DTSTAMP:20260426T042544
CREATED:20250921T115405Z
LAST-MODIFIED:20250921T115518Z
UID:10066-1760018400-1760018400@ccrm41.fr
SUMMARY:Pour une alimentation durable
DESCRIPTION:Les ateliers se dérouleront les jeudis 9 octobre\, 23 octobre\, 13 novembre et 11 décembre à 14h à Romorantin-Lanthenay (41). D’autres ateliers auront lieux sur l’année 2026. \nVenez découvrir en quoi consiste ce programme le jeudi 9 octobre à 14h sur notre stand\, rendez-vous au magasin Biomonde ; Rue de Plaisance à Romorantin-Lanthenay (41). \nTarif : gratuit. \nRéservation : Places limitées. \n\nPour les inscriptions\, merci de suivre ces liens : \nJeudi 9 octobre 2025 : https://www.sologne-nature.org/agenda/pour-une-alimentation-durable-lancement-du-programme/2025-10-09-14-00\nJeudi 23 octobre 2025 : https://www.sologne-nature.org/agenda/pour-une-alimentation-durable-fabrication-de-produits-cosmetiques-et-menagers/2025-10-23-14-00\nJeudi 13 novembre 2025 : https://www.sologne-nature.org/agenda/pour-une-alimentation-durable-cuisine-antigaspi/2025-11-13-14-00\nJeudi 11 décembre 2025 : https://www.sologne-nature.org/agenda/pour-une-alimentation-durable-les-contenants-et-ustensiles-sains/2025-12-11-14-00
URL:https://ccrm41.fr/event/pour-une-alimentation-durable/
LOCATION:Romorantin-Lanthenay\, Romorantin Lanthenay\, 41200\, France
ATTACH;FMTTYPE=image/png:https://ccrm41.fr/wp-content/uploads/2025/09/affiche_defi_alimentation_biomonde_2025.png
END:VEVENT
END:VCALENDAR