BEGIN:VCALENDAR
VERSION:2.0
PRODID:-//Communauté de Communes Romorantinais et Monestois - ECPv6.15.20//NONSGML v1.0//EN
CALSCALE:GREGORIAN
METHOD:PUBLISH
X-WR-CALNAME:Communauté de Communes Romorantinais et Monestois
X-ORIGINAL-URL:https://ccrm41.fr
X-WR-CALDESC:Évènements pour Communauté de Communes Romorantinais et Monestois
REFRESH-INTERVAL;VALUE=DURATION:PT1H
X-Robots-Tag:noindex
X-PUBLISHED-TTL:PT1H
BEGIN:VTIMEZONE
TZID:Europe/Paris
BEGIN:DAYLIGHT
TZOFFSETFROM:+0100
TZOFFSETTO:+0200
TZNAME:CEST
DTSTART:20240331T010000
END:DAYLIGHT
BEGIN:STANDARD
TZOFFSETFROM:+0200
TZOFFSETTO:+0100
TZNAME:CET
DTSTART:20241027T010000
END:STANDARD
BEGIN:DAYLIGHT
TZOFFSETFROM:+0100
TZOFFSETTO:+0200
TZNAME:CEST
DTSTART:20250330T010000
END:DAYLIGHT
BEGIN:STANDARD
TZOFFSETFROM:+0200
TZOFFSETTO:+0100
TZNAME:CET
DTSTART:20251026T010000
END:STANDARD
BEGIN:DAYLIGHT
TZOFFSETFROM:+0100
TZOFFSETTO:+0200
TZNAME:CEST
DTSTART:20260329T010000
END:DAYLIGHT
BEGIN:STANDARD
TZOFFSETFROM:+0200
TZOFFSETTO:+0100
TZNAME:CET
DTSTART:20261025T010000
END:STANDARD
END:VTIMEZONE
BEGIN:VEVENT
DTSTART;TZID=Europe/Paris:20251017T180000
DTEND;TZID=Europe/Paris:20251017T180000
DTSTAMP:20260426T042431
CREATED:20250923T083646Z
LAST-MODIFIED:20250926T133232Z
UID:10122-1760724000-1760724000@ccrm41.fr
SUMMARY:Semaines d’Information sur la Santé Mentale
DESCRIPTION:Conférence : La charge mentale des parents \n Animée par Mme Sandrine Chevallier Rochereau\, éducatrice spécialisée \n Gratuit et ouvert à tous \nOrganisée par le CLS de la Communauté de communes du Romorantinais et du Monestois\, cette conférence vous permettra de mieux comprendre la charge mentale\, ses impacts au quotidien et des pistes pour mieux la gérer. \nConsulter le programme complet
URL:https://ccrm41.fr/event/semaines-dinformation-sur-la-sante-mentale-2/
LOCATION:La Fabrique Normant\, 2 av François Mitterrand\, Romorantin-Lanthenay
ATTACH;FMTTYPE=image/jpeg:https://ccrm41.fr/wp-content/uploads/2025/09/conference-la-charge-mentale-17-octobre-2025_page-0001.jpg
END:VEVENT
END:VCALENDAR