BEGIN:VCALENDAR
VERSION:2.0
PRODID:-//Communauté de Communes Romorantinais et Monestois - ECPv6.15.20//NONSGML v1.0//EN
CALSCALE:GREGORIAN
METHOD:PUBLISH
X-WR-CALNAME:Communauté de Communes Romorantinais et Monestois
X-ORIGINAL-URL:https://ccrm41.fr
X-WR-CALDESC:Évènements pour Communauté de Communes Romorantinais et Monestois
REFRESH-INTERVAL;VALUE=DURATION:PT1H
X-Robots-Tag:noindex
X-PUBLISHED-TTL:PT1H
BEGIN:VTIMEZONE
TZID:Europe/Paris
BEGIN:DAYLIGHT
TZOFFSETFROM:+0100
TZOFFSETTO:+0200
TZNAME:CEST
DTSTART:20240331T010000
END:DAYLIGHT
BEGIN:STANDARD
TZOFFSETFROM:+0200
TZOFFSETTO:+0100
TZNAME:CET
DTSTART:20241027T010000
END:STANDARD
BEGIN:DAYLIGHT
TZOFFSETFROM:+0100
TZOFFSETTO:+0200
TZNAME:CEST
DTSTART:20250330T010000
END:DAYLIGHT
BEGIN:STANDARD
TZOFFSETFROM:+0200
TZOFFSETTO:+0100
TZNAME:CET
DTSTART:20251026T010000
END:STANDARD
BEGIN:DAYLIGHT
TZOFFSETFROM:+0100
TZOFFSETTO:+0200
TZNAME:CEST
DTSTART:20260329T010000
END:DAYLIGHT
BEGIN:STANDARD
TZOFFSETFROM:+0200
TZOFFSETTO:+0100
TZNAME:CET
DTSTART:20261025T010000
END:STANDARD
END:VTIMEZONE
BEGIN:VEVENT
DTSTART;TZID=Europe/Paris:20251023T140000
DTEND;TZID=Europe/Paris:20251023T140000
DTSTAMP:20260426T042500
CREATED:20250921T115743Z
LAST-MODIFIED:20251022T140956Z
UID:10071-1761228000-1761228000@ccrm41.fr
SUMMARY:Pour une alimentation durable
DESCRIPTION:Les ateliers se dérouleront les jeudis 9 octobre\, 23 octobre\, 13 novembre et 11 décembre à 14h à Romorantin-Lanthenay (41). D’autres ateliers auront lieux sur l’année 2026. \nVenez découvrir en quoi consiste ce programme le jeudi 9 octobre à 14h\, rendez-vous au magasin Biomonde ; Rue de Plaisance à Romorantin-Lanthenay (41). \nTarif : gratuit. \nRéservation : Places limitées. \n\nPour les inscriptions\, merci de suivre ces liens : \nJeudi 9 octobre 2025 : https://www.sologne-nature.org/agenda/pour-une-alimentation-durable-lancement-du-programme/2025-10-09-14-00\nJeudi 23 octobre 2025 : https://www.sologne-nature.org/agenda/pour-une-alimentation-durable-fabrication-de-produits-cosmetiques-et-menagers/2025-10-23-14-00\nJeudi 13 novembre 2025 : https://www.sologne-nature.org/agenda/pour-une-alimentation-durable-cuisine-antigaspi/2025-11-13-14-00\nJeudi 11 décembre 2025 : https://www.sologne-nature.org/agenda/pour-une-alimentation-durable-les-contenants-et-ustensiles-sains/2025-12-11-14-00
URL:https://ccrm41.fr/event/pour-une-alimentation-durable-2/
LOCATION:Romorantin-Lanthenay\, Romorantin Lanthenay\, 41200\, France
ATTACH;FMTTYPE=image/png:https://ccrm41.fr/wp-content/uploads/2025/09/affiche_defi_alimentation_biomonde_2025.png
END:VEVENT
END:VCALENDAR