BEGIN:VCALENDAR
VERSION:2.0
PRODID:-//Communauté de Communes Romorantinais et Monestois - ECPv6.15.20//NONSGML v1.0//EN
CALSCALE:GREGORIAN
METHOD:PUBLISH
X-ORIGINAL-URL:https://ccrm41.fr
X-WR-CALDESC:Évènements pour Communauté de Communes Romorantinais et Monestois
REFRESH-INTERVAL;VALUE=DURATION:PT1H
X-Robots-Tag:noindex
X-PUBLISHED-TTL:PT1H
BEGIN:VTIMEZONE
TZID:Europe/Paris
BEGIN:DAYLIGHT
TZOFFSETFROM:+0100
TZOFFSETTO:+0200
TZNAME:CEST
DTSTART:20240331T010000
END:DAYLIGHT
BEGIN:STANDARD
TZOFFSETFROM:+0200
TZOFFSETTO:+0100
TZNAME:CET
DTSTART:20241027T010000
END:STANDARD
BEGIN:DAYLIGHT
TZOFFSETFROM:+0100
TZOFFSETTO:+0200
TZNAME:CEST
DTSTART:20250330T010000
END:DAYLIGHT
BEGIN:STANDARD
TZOFFSETFROM:+0200
TZOFFSETTO:+0100
TZNAME:CET
DTSTART:20251026T010000
END:STANDARD
BEGIN:DAYLIGHT
TZOFFSETFROM:+0100
TZOFFSETTO:+0200
TZNAME:CEST
DTSTART:20260329T010000
END:DAYLIGHT
BEGIN:STANDARD
TZOFFSETFROM:+0200
TZOFFSETTO:+0100
TZNAME:CET
DTSTART:20261025T010000
END:STANDARD
END:VTIMEZONE
BEGIN:VEVENT
DTSTART;TZID=Europe/Paris:20251025T090000
DTEND;TZID=Europe/Paris:20251025T150000
DTSTAMP:20260426T041708
CREATED:20240421T174208Z
LAST-MODIFIED:20250822T112821Z
UID:3894-1761382800-1761404400@ccrm41.fr
SUMMARY:La déchèterie mobile
DESCRIPTION:Calendrier des jours d’ouverture de la déchèterie mobile\, pour l’année 2025 : \n\n\n♻ Prochaines ouvertures de la déchèterie mobile à Mennetou-sur-Cher (ancienne gare\, 6 rue de la Gare) : \n\nSamedi 6 septembre 2025 – 9h à 15h\nSamedi 25 octobre 2025  – 9h à 15h\n\n\n\n\n\n\n\n🧾 Déchets acceptés (dans la limite de 3 m³) :\n\n\n✔ Encombrants\n\n\n✔ Tout-venant\n\n\n✔ Déchets verts (tontes\, tailles\, etc.)\n\n\n✔ Cartons\n\n\n✔ Gravats / Résidus de bricolage\n\n\n✔ Métaux ferreux et non ferreux\n\n\n \n\n\n🚫 Déchets non acceptés :\n\n\n❌ Déchets électriques & électroniques\n\n\n❌ Déchets toxiques\n\n\n❌ Carrosserie de véhicules\n\n\n❌ Ordures ménagères\n\n\n❌ Pneus\n\n\n❌ Produits dangereux (explosifs\, amiante\, radioactifs\, infectieux…)\n\n\n \n\n\n💳 Accès : pensez à votre carte d’accès CCRM.\n\n\nPas encore de carte ? Vous pourrez en faire une sur place avec un justificatif de domicile.
URL:https://ccrm41.fr/event/la-decheterie-mobile/
LOCATION:Site de l’ancienne gare\, 6\, rue de la gare\, Mennetou-sur-Cher\, 41320
ATTACH;FMTTYPE=image/jpeg:https://ccrm41.fr/wp-content/uploads/2024/04/affiche-decheterie-mobile-2025.jpg
END:VEVENT
BEGIN:VEVENT
DTSTART;TZID=Europe/Paris:20251025T190000
DTEND;TZID=Europe/Paris:20251025T230000
DTSTAMP:20260426T041708
CREATED:20251009T185622Z
LAST-MODIFIED:20251009T193646Z
UID:10357-1761418800-1761433200@ccrm41.fr
SUMMARY:Halloween Party à la Patinoire !
DESCRIPTION:Sologne Sports de Glace vous invite à une soirée : \n🗓  Samedi 25 octobre \nAu programme : \nConcours de déguisement pour enfants et adultes \nBuvette et snack sur place 🍔🥤 \nTarif unique : 3 €
URL:https://ccrm41.fr/event/halloween-party-a-la-patinoire/
LOCATION:Complexe Alain Calmat\, 16 Avenue de Paris\, Romorantin-Lanthenay\, 41200
ATTACH;FMTTYPE=image/jpeg:https://ccrm41.fr/wp-content/uploads/2025/10/Halloween-2025_page-0001.jpg
END:VEVENT
END:VCALENDAR