BEGIN:VCALENDAR
VERSION:2.0
PRODID:-//Communauté de Communes Romorantinais et Monestois - ECPv6.15.20//NONSGML v1.0//EN
CALSCALE:GREGORIAN
METHOD:PUBLISH
X-ORIGINAL-URL:https://ccrm41.fr
X-WR-CALDESC:Évènements pour Communauté de Communes Romorantinais et Monestois
REFRESH-INTERVAL;VALUE=DURATION:PT1H
X-Robots-Tag:noindex
X-PUBLISHED-TTL:PT1H
BEGIN:VTIMEZONE
TZID:Europe/Paris
BEGIN:DAYLIGHT
TZOFFSETFROM:+0100
TZOFFSETTO:+0200
TZNAME:CEST
DTSTART:20240331T010000
END:DAYLIGHT
BEGIN:STANDARD
TZOFFSETFROM:+0200
TZOFFSETTO:+0100
TZNAME:CET
DTSTART:20241027T010000
END:STANDARD
BEGIN:DAYLIGHT
TZOFFSETFROM:+0100
TZOFFSETTO:+0200
TZNAME:CEST
DTSTART:20250330T010000
END:DAYLIGHT
BEGIN:STANDARD
TZOFFSETFROM:+0200
TZOFFSETTO:+0100
TZNAME:CET
DTSTART:20251026T010000
END:STANDARD
BEGIN:DAYLIGHT
TZOFFSETFROM:+0100
TZOFFSETTO:+0200
TZNAME:CEST
DTSTART:20260329T010000
END:DAYLIGHT
BEGIN:STANDARD
TZOFFSETFROM:+0200
TZOFFSETTO:+0100
TZNAME:CET
DTSTART:20261025T010000
END:STANDARD
END:VTIMEZONE
BEGIN:VEVENT
DTSTART;TZID=Europe/Paris:20251110T000000
DTEND;TZID=Europe/Paris:20251130T000000
DTSTAMP:20260426T025554
CREATED:20251108T201403Z
LAST-MODIFIED:20251108T203053Z
UID:11115-1762732800-1764460800@ccrm41.fr
SUMMARY:Novembre\, mois de mobilisation contre les violences faites aux femmes
DESCRIPTION:
URL:https://ccrm41.fr/event/novembre-mois-de-mobilisation-contre-les-violences-faites-aux-femmes/
ATTACH;FMTTYPE=image/jpeg:https://ccrm41.fr/wp-content/uploads/2025/11/couv.jpg
END:VEVENT
BEGIN:VEVENT
DTSTART;TZID=Europe/Paris:20251116T083000
DTEND;TZID=Europe/Paris:20251116T180000
DTSTAMP:20260426T025554
CREATED:20251026T112942Z
LAST-MODIFIED:20251027T130128Z
UID:10750-1763281800-1763316000@ccrm41.fr
SUMMARY:Journée Pêche d'étang au Grand Liot
DESCRIPTION:Venez vivre une journée conviviale autour de la pêche et de la nature ! \nAu programme : \n-Animations gratuites de la CCRM : visite du domaine et géocaching-Découverte du mouton de Sologne avec Sologn’sheep-Balade à cheval avec les Écuries des Noues-Parcours sensoriel avec la ferme pédagogique Graine de Canailles \n-Buvette \nLe restaurant Rayon de Sologne vous propose un délicieux menu de poisson : \nFormule plat/dessert : Filet de perche au beurre blanc\, légumes d’automne et mousse au chocolat – 20€ \nÀ la carte : Filet de perche et légumes – 16€📞 Réservation conseillée au 02 34 33 11 39
URL:https://ccrm41.fr/event/journee-peche-detang-au-grand-liot/
LOCATION:Rayon de Sologne\, 2380 route de Romorantin\, Landon-sur-Cher\, 41320\, France
ATTACH;FMTTYPE=image/jpeg:https://ccrm41.fr/wp-content/uploads/2025/10/Affiche-Grand-Liot-peche-detang-VF.jpg
END:VEVENT
BEGIN:VEVENT
DTSTART;TZID=Europe/Paris:20251116T120000
DTEND;TZID=Europe/Paris:20251116T120000
DTSTAMP:20260426T025554
CREATED:20251112T160812Z
LAST-MODIFIED:20251112T160831Z
UID:11161-1763294400-1763294400@ccrm41.fr
SUMMARY:MATCH LOISIR SÉNIOR - HOCKEY SUR GLACE
DESCRIPTION:ROMO vs MONT-DORE (Les Goupils du Sancy) \n\n\n \n\n\n🎟️ Entrée gratuite\n\n\n🚪 Accès par l’arrière de la patinoire
URL:https://ccrm41.fr/event/match-loisir-senior-hockey-sur-glace/
LOCATION:Complexe Alain Calmat\, 16 Avenue de Paris\, Romorantin-Lanthenay\, 41200
ATTACH;FMTTYPE=image/jpeg:https://ccrm41.fr/wp-content/uploads/2025/11/1000009854.jpg
END:VEVENT
BEGIN:VEVENT
DTSTART;TZID=Europe/Paris:20251116T160000
DTEND;TZID=Europe/Paris:20251116T160000
DTSTAMP:20260426T025554
CREATED:20251110T084604Z
LAST-MODIFIED:20251110T084721Z
UID:11142-1763308800-1763308800@ccrm41.fr
SUMMARY:Concert Église Saint-Étienne
DESCRIPTION:
URL:https://ccrm41.fr/event/concert-eglise-saint-etienne/
LOCATION:Eglise Saint-Etienne\, Romorantin-Lanthenay\, 41200
ATTACH;FMTTYPE=image/jpeg:https://ccrm41.fr/wp-content/uploads/2025/11/Screenshot_20251019_094603_OneDrive.jpg
END:VEVENT
END:VCALENDAR