BEGIN:VCALENDAR
VERSION:2.0
PRODID:-//Communauté de Communes Romorantinais et Monestois - ECPv6.15.20//NONSGML v1.0//EN
CALSCALE:GREGORIAN
METHOD:PUBLISH
X-WR-CALNAME:Communauté de Communes Romorantinais et Monestois
X-ORIGINAL-URL:https://ccrm41.fr
X-WR-CALDESC:Évènements pour Communauté de Communes Romorantinais et Monestois
REFRESH-INTERVAL;VALUE=DURATION:PT1H
X-Robots-Tag:noindex
X-PUBLISHED-TTL:PT1H
BEGIN:VTIMEZONE
TZID:Europe/Paris
BEGIN:DAYLIGHT
TZOFFSETFROM:+0100
TZOFFSETTO:+0200
TZNAME:CEST
DTSTART:20240331T010000
END:DAYLIGHT
BEGIN:STANDARD
TZOFFSETFROM:+0200
TZOFFSETTO:+0100
TZNAME:CET
DTSTART:20241027T010000
END:STANDARD
BEGIN:DAYLIGHT
TZOFFSETFROM:+0100
TZOFFSETTO:+0200
TZNAME:CEST
DTSTART:20250330T010000
END:DAYLIGHT
BEGIN:STANDARD
TZOFFSETFROM:+0200
TZOFFSETTO:+0100
TZNAME:CET
DTSTART:20251026T010000
END:STANDARD
BEGIN:DAYLIGHT
TZOFFSETFROM:+0100
TZOFFSETTO:+0200
TZNAME:CEST
DTSTART:20260329T010000
END:DAYLIGHT
BEGIN:STANDARD
TZOFFSETFROM:+0200
TZOFFSETTO:+0100
TZNAME:CET
DTSTART:20261025T010000
END:STANDARD
END:VTIMEZONE
BEGIN:VEVENT
DTSTART;TZID=Europe/Paris:20251205T000000
DTEND;TZID=Europe/Paris:20251223T000000
DTSTAMP:20260426T012418
CREATED:20251130T175041Z
LAST-MODIFIED:20251209T074739Z
UID:11368-1764892800-1766448000@ccrm41.fr
SUMMARY:Noël en ville : le programme
DESCRIPTION:𝐍𝐨𝐞̈𝐥 𝐞𝐧 𝐕𝐢𝐥𝐥𝐞 𝐚̀ 𝐑𝐨𝐦𝐨𝐫𝐚𝐧𝐭𝐢𝐧-𝐋𝐚𝐧𝐭𝐡𝐞𝐧𝐚𝐲 ! \n\n\n\n \n\n\nAnimations\, concerts\, parade\, marché de Noël\, patinoire\, balades en calèche\, feu d’artifice… \n\n\n Jusqu’au 31 décembre : un mois entier de magie pour toute la famille !\n\n\n \n\n\nProgramme complet sur https://romorantin.com
URL:https://ccrm41.fr/event/noel-en-ville-le-programme/
LOCATION:Romorantin\, 41200
ATTACH;FMTTYPE=image/jpeg:https://ccrm41.fr/wp-content/uploads/2025/11/Sucette-Noel-2025_page-0001.jpg
END:VEVENT
END:VCALENDAR