BEGIN:VCALENDAR
VERSION:2.0
PRODID:-//Communauté de Communes Romorantinais et Monestois - ECPv6.15.20//NONSGML v1.0//EN
CALSCALE:GREGORIAN
METHOD:PUBLISH
X-ORIGINAL-URL:https://ccrm41.fr
X-WR-CALDESC:Évènements pour Communauté de Communes Romorantinais et Monestois
REFRESH-INTERVAL;VALUE=DURATION:PT1H
X-Robots-Tag:noindex
X-PUBLISHED-TTL:PT1H
BEGIN:VTIMEZONE
TZID:Europe/Paris
BEGIN:DAYLIGHT
TZOFFSETFROM:+0100
TZOFFSETTO:+0200
TZNAME:CEST
DTSTART:20250330T010000
END:DAYLIGHT
BEGIN:STANDARD
TZOFFSETFROM:+0200
TZOFFSETTO:+0100
TZNAME:CET
DTSTART:20251026T010000
END:STANDARD
BEGIN:DAYLIGHT
TZOFFSETFROM:+0100
TZOFFSETTO:+0200
TZNAME:CEST
DTSTART:20260329T010000
END:DAYLIGHT
BEGIN:STANDARD
TZOFFSETFROM:+0200
TZOFFSETTO:+0100
TZNAME:CET
DTSTART:20261025T010000
END:STANDARD
BEGIN:DAYLIGHT
TZOFFSETFROM:+0100
TZOFFSETTO:+0200
TZNAME:CEST
DTSTART:20270328T010000
END:DAYLIGHT
BEGIN:STANDARD
TZOFFSETFROM:+0200
TZOFFSETTO:+0100
TZNAME:CET
DTSTART:20271031T010000
END:STANDARD
END:VTIMEZONE
BEGIN:VEVENT
DTSTART;TZID=Europe/Paris:20260126T140000
DTEND;TZID=Europe/Paris:20260126T163000
DTSTAMP:20260425T221227
CREATED:20251209T103322Z
LAST-MODIFIED:20251209T103329Z
UID:11499-1769436000-1769445000@ccrm41.fr
SUMMARY:En route vers le numérique !
DESCRIPTION:📢 Vous avez 60 ans ou plus ? Profitez d’un programme gratuit pour vous familiariser avec le numérique. \n8 séances de 2h30 \n➡️ Début du programme : 12 janvier 2026➡️ Toutes les séances de 14h à 16h30 : \n\n12 janvier 2026\n19 janvier 2026\n26 janvier 2026\n2 février 2026\n9 février 2026\n2 mars 2026\n9 mars 2026\n16 mars 2026\n\n📍 Espace Robert Serrault34 Mail des Platanes – Romorantin-Lanthenay \n👉 Renseignements et inscription (obligatoire)📞 Contactez Matha Bachelier au 06 21 35 37 52 \nEn partenariat avec la Mutualité Française
URL:https://ccrm41.fr/event/en-route-vers-le-numerique-3/
LOCATION:Espace Robert Serrault\, 34 Mail des Platanes\, Romorantin-Lanthenay\, 41200
ATTACH;FMTTYPE=image/jpeg:https://ccrm41.fr/wp-content/uploads/2025/12/EN-ROUTE-VERS-LE-NUMERIQUE-2026-FLYER_page-0001.jpg
END:VEVENT
END:VCALENDAR