BEGIN:VCALENDAR
VERSION:2.0
PRODID:-//Communauté de Communes Romorantinais et Monestois - ECPv6.15.20//NONSGML v1.0//EN
CALSCALE:GREGORIAN
METHOD:PUBLISH
X-WR-CALNAME:Communauté de Communes Romorantinais et Monestois
X-ORIGINAL-URL:https://ccrm41.fr
X-WR-CALDESC:Évènements pour Communauté de Communes Romorantinais et Monestois
REFRESH-INTERVAL;VALUE=DURATION:PT1H
X-Robots-Tag:noindex
X-PUBLISHED-TTL:PT1H
BEGIN:VTIMEZONE
TZID:Europe/Paris
BEGIN:DAYLIGHT
TZOFFSETFROM:+0100
TZOFFSETTO:+0200
TZNAME:CEST
DTSTART:20250330T010000
END:DAYLIGHT
BEGIN:STANDARD
TZOFFSETFROM:+0200
TZOFFSETTO:+0100
TZNAME:CET
DTSTART:20251026T010000
END:STANDARD
BEGIN:DAYLIGHT
TZOFFSETFROM:+0100
TZOFFSETTO:+0200
TZNAME:CEST
DTSTART:20260329T010000
END:DAYLIGHT
BEGIN:STANDARD
TZOFFSETFROM:+0200
TZOFFSETTO:+0100
TZNAME:CET
DTSTART:20261025T010000
END:STANDARD
BEGIN:DAYLIGHT
TZOFFSETFROM:+0100
TZOFFSETTO:+0200
TZNAME:CEST
DTSTART:20270328T010000
END:DAYLIGHT
BEGIN:STANDARD
TZOFFSETFROM:+0200
TZOFFSETTO:+0100
TZNAME:CET
DTSTART:20271031T010000
END:STANDARD
END:VTIMEZONE
BEGIN:VEVENT
DTSTART;TZID=Europe/Paris:20260408T000000
DTEND;TZID=Europe/Paris:20261031T000000
DTSTAMP:20260425T203734
CREATED:20260408T152815Z
LAST-MODIFIED:20260408T153050Z
UID:12429-1775606400-1793404800@ccrm41.fr
SUMMARY:Coloc meublée
DESCRIPTION:🏡 Coloc meublée – Selles sur Cher (41)\nAppartement rénové\, 5 chambres\, cuisine & buanderie équipées\, 2 salles d’eau\, commerces proches\, rooftop avec vue sur le Cher.\n👉 250 €/mois charges comprises\n📲 Toutes les infos via le QR code du visuel.\n________________________________________\n🏡 Coloc meublée – Saint Aignan (41)\nChambres meublées avec bureau\, logement équipé et confortable\, idéal pour étudiants et remplaçants en santé\, commerces à proximité.\n👉 Loyer attractif\n📲 Toutes les infos via le QR code du visuel.
URL:https://ccrm41.fr/event/coloc-meublee/
ATTACH;FMTTYPE=image/jpeg:https://ccrm41.fr/wp-content/uploads/2026/04/Flyer-Etudiants-Remplacants-Sante-Coloc-SELLES-SUR-CHER_page-0001.jpg
END:VEVENT
BEGIN:VEVENT
DTSTART;TZID=Europe/Paris:20260508T190000
DTEND;TZID=Europe/Paris:20260508T190000
DTSTAMP:20260425T203734
CREATED:20260421T131813Z
LAST-MODIFIED:20260421T132018Z
UID:12541-1778266800-1778266800@ccrm41.fr
SUMMARY:Gala de patinage - Ainsi va la vie
DESCRIPTION:Portes ouvertes à 19h. \nVenez découvrir un spectacle émouvant retraçant les grandes étapes de la vie à travers le patinage artistique. \nTarifs : Dès 5 €\nGratuit pour les moins de 10 ans\nBuvette et restauration sur place. \n 
URL:https://ccrm41.fr/event/gala-de-patinage-ainsi-va-la-vie/
LOCATION:Complexe Alain Calmat\, 16 Avenue de Paris\, Romorantin-Lanthenay\, 41200
ATTACH;FMTTYPE=image/jpeg:https://ccrm41.fr/wp-content/uploads/2026/04/Affiche-gala-2026_page-0001.jpg
END:VEVENT
END:VCALENDAR