BEGIN:VCALENDAR
VERSION:2.0
PRODID:-//Communauté de Communes Romorantinais et Monestois - ECPv6.15.20//NONSGML v1.0//EN
CALSCALE:GREGORIAN
METHOD:PUBLISH
X-WR-CALNAME:Communauté de Communes Romorantinais et Monestois
X-ORIGINAL-URL:https://ccrm41.fr
X-WR-CALDESC:Évènements pour Communauté de Communes Romorantinais et Monestois
REFRESH-INTERVAL;VALUE=DURATION:PT1H
X-Robots-Tag:noindex
X-PUBLISHED-TTL:PT1H
BEGIN:VTIMEZONE
TZID:Europe/Paris
BEGIN:DAYLIGHT
TZOFFSETFROM:+0100
TZOFFSETTO:+0200
TZNAME:CEST
DTSTART:20240331T010000
END:DAYLIGHT
BEGIN:STANDARD
TZOFFSETFROM:+0200
TZOFFSETTO:+0100
TZNAME:CET
DTSTART:20241027T010000
END:STANDARD
BEGIN:DAYLIGHT
TZOFFSETFROM:+0100
TZOFFSETTO:+0200
TZNAME:CEST
DTSTART:20250330T010000
END:DAYLIGHT
BEGIN:STANDARD
TZOFFSETFROM:+0200
TZOFFSETTO:+0100
TZNAME:CET
DTSTART:20251026T010000
END:STANDARD
BEGIN:DAYLIGHT
TZOFFSETFROM:+0100
TZOFFSETTO:+0200
TZNAME:CEST
DTSTART:20260329T010000
END:DAYLIGHT
BEGIN:STANDARD
TZOFFSETFROM:+0200
TZOFFSETTO:+0100
TZNAME:CET
DTSTART:20261025T010000
END:STANDARD
END:VTIMEZONE
BEGIN:VEVENT
DTSTART;TZID=Europe/Paris:20250906T140000
DTEND;TZID=Europe/Paris:20250906T180000
DTSTAMP:20260426T042552
CREATED:20250905T104817Z
LAST-MODIFIED:20250905T105705Z
UID:9986-1757167200-1757181600@ccrm41.fr
SUMMARY:FESTI’CAMPAGNE 2025
DESCRIPTION:Viens passer un week-end festif et convivial au cœur de la campagne avec les Jeunes Agriculteurs du Loir-et-Cher ! \n Au programme : \n✅ Concours de labour départemental et régional✅ Course de traînes-culs ✅ Jeux Inter-JA ✅ Exposition de matériel agricole ✅ Marché de producteurs le dimanche \nRepas convivial samedi soir (sur réservation par SMS au 📱 06.86.24.89.33) \n Horaires :➡️ Samedi : 14h – 18h➡️ Dimanche : 9h – 18h \nAmbiance\, animations et produits du terroir garantis !
URL:https://ccrm41.fr/event/festicampagne-2025/
LOCATION:Langon-sur-Cher\, 41320
ATTACH;FMTTYPE=image/jpeg:https://ccrm41.fr/wp-content/uploads/2025/09/festi.jpg
END:VEVENT
BEGIN:VEVENT
DTSTART;TZID=Europe/Paris:20250907T090000
DTEND;TZID=Europe/Paris:20250907T180000
DTSTAMP:20260426T042552
CREATED:20250905T105424Z
LAST-MODIFIED:20250905T105517Z
UID:9994-1757235600-1757268000@ccrm41.fr
SUMMARY:FESTI’CAMPAGNE 2025
DESCRIPTION:Viens passer un week-end festif et convivial au cœur de la campagne avec les Jeunes Agriculteurs du Loir-et-Cher ! \n Au programme : \n✅ Concours de labour départemental et régional✅ Course de traînes-culs ✅ Jeux Inter-JA ✅ Exposition de matériel agricole ✅ Marché de producteurs le dimanche \nRepas convivial samedi soir (sur réservation par SMS au 📱 06.86.24.89.33) \n Horaires :➡️ Samedi : 14h – 18h➡️ Dimanche : 9h – 18h \nAmbiance\, animations et produits du terroir garantis !
URL:https://ccrm41.fr/event/festicampagne-2025-2/
LOCATION:Langon-sur-Cher\, 41320
ATTACH;FMTTYPE=image/jpeg:https://ccrm41.fr/wp-content/uploads/2025/09/festi.jpg
END:VEVENT
BEGIN:VEVENT
DTSTART;TZID=Europe/Paris:20250913T100000
DTEND;TZID=Europe/Paris:20250913T180000
DTSTAMP:20260426T042552
CREATED:20250903T165220Z
LAST-MODIFIED:20250903T165220Z
UID:9982-1757757600-1757786400@ccrm41.fr
SUMMARY:Braderie-Romorantin
DESCRIPTION:BRADERIE • SAMEDI 13 SEPTEMBRE • ROMORANTIN | \nNous vous donnons rendez-vous dans le centre-ville de Romorantin pour cette nouvelle édition de la braderie des Commerçants et Artisans ! 🌞 \n🔥 Au programme de cette journée : \n🎼 Scène ouverte avec des chanteurs amateurs dès 10h\, organisée en partenariat avec Romo-Est Comité De Quartier \n🎈 Sculptures sur Ballons* de 10h à 12h et de 14h30 à 18h \n✨ Magicien* en déambulation de 14h30 à 17h30 \n😋 Barbes à papa pour les enfants* \n*Animations OFFERTES par l’ARCA (dans la limite des stocks disponibles). Horaires susceptibles d’être modifiés. \n👚 Déballage des commerçants : profitez d’offres exceptionnelles pour vous faire plaisir !!! \n➡️ Présence de créateurs & d’exposants extérieurs \n🍴 Restauration possible sur place\, grâce aux restaurateurs et métiers de bouche adhérents de l’hyper centre. \nVous pourrez profiter chez certains de tables en extérieurs et de menus créés spécialement pour l’occasion. \n❌ Le stationnement et la circulation des véhicules seront interdits dans certaines rues du centre-ville de 6h30 à 21h. \nPlus d’informations auprès de l’ARCA :\n📞 02 54 76 32 59\n📍 13 rue du Tour de la Halle à Romorantin\n💻 www.commerces-romorantin.com
URL:https://ccrm41.fr/event/braderie-romorantin/
LOCATION:Romorantin-Lanthenay\, Romorantin Lanthenay\, 41200\, France
ATTACH;FMTTYPE=image/png:https://ccrm41.fr/wp-content/uploads/2025/09/Braderie-du-13-septembre-2025-.png
END:VEVENT
BEGIN:VEVENT
DTSTART;TZID=Europe/Paris:20250916T140000
DTEND;TZID=Europe/Paris:20250916T170000
DTSTAMP:20260426T042552
CREATED:20250611T112748Z
LAST-MODIFIED:20250611T112907Z
UID:9158-1758031200-1758042000@ccrm41.fr
SUMMARY:Journée de sensibilisation aux dépistages des cancers
DESCRIPTION:Dans le cadre du Contrat Local de Santé\, une action de sensibilisation aux dépistages des cancers se tiendra le : \n📅 Mardi 16 septembre 2025De 14h à 17h \n👉 Au programme :14h30 : Théâtre interactif15h30 : Forum des acteurs du dépistage
URL:https://ccrm41.fr/event/journee-de-sensibilisation-aux-depistage-des-cancers/
LOCATION:Salle du centre de loisirs\, 91 rue des papillons\, Romorantin-Lanthenay\, 41200
ATTACH;FMTTYPE=image/jpeg:https://ccrm41.fr/wp-content/uploads/2025/06/depistage-cancer-feminin-16-septembre-2025_page-0001.jpg
END:VEVENT
BEGIN:VEVENT
DTSTART;TZID=Europe/Paris:20250917T100000
DTEND;TZID=Europe/Paris:20250917T180000
DTSTAMP:20260426T042552
CREATED:20250804T103349Z
LAST-MODIFIED:20250827T110916Z
UID:9868-1758103200-1758132000@ccrm41.fr
SUMMARY:Journée des Mobilités 2025
DESCRIPTION:🕙 De 10h à 18h\n📍 Romorantin-Lanthenay – Musée Matra & Place du Général de Gaulle. \nDécouvrez le programme :
URL:https://ccrm41.fr/event/forum-des-mobilites-2025/
LOCATION:Romorantin-Lanthenay\, Romorantin Lanthenay\, 41200\, France
ATTACH;FMTTYPE=image/jpeg:https://ccrm41.fr/wp-content/uploads/2025/08/AfficheProgramme-Forum-des-mobilites-_page-0001.jpg
END:VEVENT
BEGIN:VEVENT
DTSTART;TZID=Europe/Paris:20250918T143000
DTEND;TZID=Europe/Paris:20250918T143000
DTSTAMP:20260426T042552
CREATED:20250812T113405Z
LAST-MODIFIED:20250812T115958Z
UID:9884-1758205800-1758205800@ccrm41.fr
SUMMARY:Conférence-Spectacle “RIRE et SANTÉ”
DESCRIPTION:Le Contrat Local de Santé de la CCRM sera présent au forum RIRE et SANTÉ\, organisé par l’association France Alzheimer et AGIRC-ARRCO\, à la Pyramide de Romorantin (16 Avenue de Paris – 41200). \nProgramme :\n🕓 14h30 – Accueil du public et visite des stands d’information (aides aux aidants\, santé\, accompagnement)\n🎭 15h à 16h30 –  Conférence-spectacle “Rire et Santé”\n🕓 16h30 à 17h30 – Reprise du forum et échanges \nCet événement s’adresse aux aidants\, aux familles de personnes malades\, mais aussi aux retraités… même à ceux qui ne se reconnaissent pas toujours comme aidants.
URL:https://ccrm41.fr/event/forum-spectacle-rire-et-sante/
LOCATION:Pyramide\, 16 Avenue de Paris\, Romorantin-Lanthenay\, 41200
ATTACH;FMTTYPE=image/jpeg:https://ccrm41.fr/wp-content/uploads/2025/08/Affiche-spectacle-RIRE-ET-SANTE_page-0001.jpg
END:VEVENT
BEGIN:VEVENT
DTSTART;TZID=Europe/Paris:20250920T080000
DTEND;TZID=Europe/Paris:20250920T170000
DTSTAMP:20260426T042552
CREATED:20250827T114040Z
LAST-MODIFIED:20250909T135144Z
UID:9941-1758355200-1758387600@ccrm41.fr
SUMMARY:La Roue du Temps en Sologne Côté Sud
DESCRIPTION:L’office de tourisme Sologne côté sud en partenariat avec la CCRM organise sa première échappée à vélo.\n📅 Rendez-vous le 20 septembre 2025 à Mennetou-sur-Cher \nDépart groupé du parking de canal de Berry à Mennetou-sur-Cher à 10h30 pour 2 boucles à énigmes de 21 et 35 km environ.\n. Petite boucle ouverte aux tandems et remorques enfants. Grande boucle uniquement VTC\, VTT et Gravel\n. Possibilité de déjeuner le midi pour 15 € (plat + dessert au Bistrot Grand Liot de Langon-sur-Cher). Réservation avant le 10 septembre\n  \n\n👉 GRATUIT POUR TOUS. Inscriptions (sans repas) avant le 18 septembre📞 02 54 98 12 29📧 emma.solognesud@gmail.com \nUne belle occasion de découvrir la Sologne Côté Sud autrement !
URL:https://ccrm41.fr/event/la-roue-du-temps-en-sologne-cote-sud/
ATTACH;FMTTYPE=image/jpeg:https://ccrm41.fr/wp-content/uploads/2025/08/Affiche-echappee-a-velo-1_page-0001.jpg
END:VEVENT
BEGIN:VEVENT
DTSTART;TZID=Europe/Paris:20250920T084500
DTEND;TZID=Europe/Paris:20250920T084500
DTSTAMP:20260426T042552
CREATED:20250901T141425Z
LAST-MODIFIED:20250901T142212Z
UID:9961-1758357900-1758357900@ccrm41.fr
SUMMARY:Éco-Rando 2025
DESCRIPTION:💸 Gratuit \nÀ l’occasion de la Journée mondiale du nettoyage de notre planète\, rejoignez Sologne Nature Environnement\, Romo Rando et Décathlon Romorantin pour une éco-randonnée conviviale avec Lucie.\nEnsemble\, découvrons l’impact des déchets sur notre environnement\, et surtout\, agissons pour préserver la nature. \nUne belle occasion de marcher\, échanger et protéger notre territoire tout en passant un bon moment. \n🤝 Avec le soutien de la Communauté de communes du Romorantinais et du Monestois. \n📌 Infos et inscriptions (obligatoires) :\n👉 Réservez vos places ici : https://www.sologne-nature.org/agenda/ecorando-2025/2025-09-20-08-45 \n📞 Renseignements : 02 54 76 27 18
URL:https://ccrm41.fr/event/eco-rando-2025/
LOCATION:Guinguette de la plage\, Villefranche-sur-Cher\, 41200
ATTACH;FMTTYPE=image/jpeg:https://ccrm41.fr/wp-content/uploads/2025/09/affiche_2025_ecorando-100.jpg
END:VEVENT
BEGIN:VEVENT
DTSTART;TZID=Europe/Paris:20250920T203000
DTEND;TZID=Europe/Paris:20250920T203000
DTSTAMP:20260426T042552
CREATED:20250811T115325Z
LAST-MODIFIED:20250909T134203Z
UID:9878-1758400200-1758400200@ccrm41.fr
SUMMARY:Tour Vibration 2025
DESCRIPTION:La programmation complète est dévoilée !\n\n\n\nAmirSantaMagic SystemAmel BentRidsaJérémy FrerotHenri PFRLaura Ferré \n Warm up : DJ Myst  \n\n\n\n20 septembre – Romorantin-Lanthenay\n\n\n20h30 – Ouverture des portes dès 18h\n\n\n\n\n 
URL:https://ccrm41.fr/event/tour-vibration-2025/
LOCATION:Parc des Expositions de la Pyramide\, Romorantin-Lanthenay
ATTACH;FMTTYPE=image/jpeg:https://ccrm41.fr/wp-content/uploads/2025/08/518129488_704697629205754_8566315908771267719_n.jpg
END:VEVENT
BEGIN:VEVENT
DTSTART;TZID=Europe/Paris:20250928T120000
DTEND;TZID=Europe/Paris:20250928T120000
DTSTAMP:20260426T042552
CREATED:20250926T140606Z
LAST-MODIFIED:20250926T141042Z
UID:10174-1759060800-1759060800@ccrm41.fr
SUMMARY:Hockey sur glace - Tournoi Fédéral U11
DESCRIPTION:📍 Patinoire – accès par l’arrière\n\n\n🎟️ Entrée gratuite
URL:https://ccrm41.fr/event/tournoi-federal-u11-hockey-sur-glace/
LOCATION:Complexe Alain Calmat\, 16 Avenue de Paris\, Romorantin-Lanthenay\, 41200
ATTACH;FMTTYPE=image/png:https://ccrm41.fr/wp-content/uploads/2025/09/image001.png
END:VEVENT
BEGIN:VEVENT
DTSTART;TZID=Europe/Paris:20250929T093000
DTEND;TZID=Europe/Paris:20250929T093000
DTSTAMP:20260426T042552
CREATED:20250925T081310Z
LAST-MODIFIED:20250925T081737Z
UID:10161-1759138200-1759138200@ccrm41.fr
SUMMARY:Le bus numérique à Romorantin
DESCRIPTION:Au programme :🔹 09h30 – 12h30 → Atelier numérique (informatique\, internet\, e-mails\, services en ligne\, réseaux sociaux)🔹 16h00 – 17h00 → Visite libre du Bus Numérique \n👵👴 Gratuit et réservé aux séniors et aidants – pour rester connecté en toute simplicité ! \nℹ️ Inscriptions auprès du CLS📞 07 86 24 15 79📧 cls@ccrm41.fr
URL:https://ccrm41.fr/event/le/
LOCATION:Parking de la Pyramide\, 16 avenue de Paris\, Romorantin-Lanthenay\, 41200
ATTACH;FMTTYPE=image/jpeg:https://ccrm41.fr/wp-content/uploads/2025/09/Affiche-bus-numerique-romo_page-0001.jpg
END:VEVENT
BEGIN:VEVENT
DTSTART;TZID=Europe/Paris:20250929T140000
DTEND;TZID=Europe/Paris:20250929T140000
DTSTAMP:20260426T042552
CREATED:20250827T120034Z
LAST-MODIFIED:20250924T125613Z
UID:9945-1759154400-1759154400@ccrm41.fr
SUMMARY:Spectacle et forum : ma retraite\, j'en profite !
DESCRIPTION:L’ASEP Centre-Val de Loire\, le Contrat Local de Santé de la CCRM et les délégués MSA Berry-Touraine vous invitent à un moment convivial autour du spectacle « Une Nouvelle Saison »\, présenté par la Cie Vol de Nuit. \nAprès la représentation\, rencontrez nos partenaires lors d’un forum Bien Vieillir. \n📅 Entrée gratuite (réservation obligatoire)📞 Infos & inscriptions : ASEP Centre-Val de Loire – 07 67 59 46 01 \nVenez partager ce moment unique alliant théâtre et chansons !
URL:https://ccrm41.fr/event/spectacle-forum-ma-retraite-jen-profite/
LOCATION:La Pyramide\, 16 avenue de Paris\, Romorantin Lanthenay\, 41200\, France
ATTACH;FMTTYPE=image/jpeg:https://ccrm41.fr/wp-content/uploads/2025/08/thumbnail_IMG_6932.jpg
END:VEVENT
END:VCALENDAR