BEGIN:VCALENDAR
VERSION:2.0
PRODID:-//Communauté de Communes Romorantinais et Monestois - ECPv6.15.20//NONSGML v1.0//EN
CALSCALE:GREGORIAN
METHOD:PUBLISH
X-ORIGINAL-URL:https://ccrm41.fr
X-WR-CALDESC:Évènements pour Communauté de Communes Romorantinais et Monestois
REFRESH-INTERVAL;VALUE=DURATION:PT1H
X-Robots-Tag:noindex
X-PUBLISHED-TTL:PT1H
BEGIN:VTIMEZONE
TZID:Europe/Paris
BEGIN:DAYLIGHT
TZOFFSETFROM:+0100
TZOFFSETTO:+0200
TZNAME:CEST
DTSTART:20240331T010000
END:DAYLIGHT
BEGIN:STANDARD
TZOFFSETFROM:+0200
TZOFFSETTO:+0100
TZNAME:CET
DTSTART:20241027T010000
END:STANDARD
BEGIN:DAYLIGHT
TZOFFSETFROM:+0100
TZOFFSETTO:+0200
TZNAME:CEST
DTSTART:20250330T010000
END:DAYLIGHT
BEGIN:STANDARD
TZOFFSETFROM:+0200
TZOFFSETTO:+0100
TZNAME:CET
DTSTART:20251026T010000
END:STANDARD
BEGIN:DAYLIGHT
TZOFFSETFROM:+0100
TZOFFSETTO:+0200
TZNAME:CEST
DTSTART:20260329T010000
END:DAYLIGHT
BEGIN:STANDARD
TZOFFSETFROM:+0200
TZOFFSETTO:+0100
TZNAME:CET
DTSTART:20261025T010000
END:STANDARD
END:VTIMEZONE
BEGIN:VEVENT
DTSTART;TZID=Europe/Paris:20251106T090000
DTEND;TZID=Europe/Paris:20251106T110000
DTSTAMP:20260426T012752
CREATED:20251022T134150Z
LAST-MODIFIED:20251022T134450Z
UID:10613-1762419600-1762426800@ccrm41.fr
SUMMARY:Embellissez votre quartier !
DESCRIPTION:Dans le cadre de nos actions Politique de la Ville\, nous vous invitons à participer à des ateliers créatifs et participatifs autour du projet « Embellissez votre quartier ». \n📍 Jeudi 6 novembre – 9h à 11h\n📍 Jeudi 20 novembre – 9h à 11h\n📍 Jeudi 4 décembre – 9h à 11h\n📌 Maison de quartier des Favignolles \nLes ambassadeurs du tri de la CCRM ♻️ seront présents pour sensibiliser au tri des déchets tout en laissant libre cours à votre créativité ! 💡 \nGratuit et ouvert à toutes et tous !
URL:https://ccrm41.fr/event/embellissez-votre-quartier/
LOCATION:Maison de quartier des Favignolles\, Romorantin-Lanthenay\, 41200
ATTACH;FMTTYPE=image/jpeg:https://ccrm41.fr/wp-content/uploads/2025/10/affiche-ateliers-projet-Embellisez-votre-quartier_page-0001.jpg
END:VEVENT
BEGIN:VEVENT
DTSTART;TZID=Europe/Paris:20251110T000000
DTEND;TZID=Europe/Paris:20251130T000000
DTSTAMP:20260426T012752
CREATED:20251108T201403Z
LAST-MODIFIED:20251108T203053Z
UID:11115-1762732800-1764460800@ccrm41.fr
SUMMARY:Novembre\, mois de mobilisation contre les violences faites aux femmes
DESCRIPTION:
URL:https://ccrm41.fr/event/novembre-mois-de-mobilisation-contre-les-violences-faites-aux-femmes/
ATTACH;FMTTYPE=image/jpeg:https://ccrm41.fr/wp-content/uploads/2025/11/couv.jpg
END:VEVENT
BEGIN:VEVENT
DTSTART;TZID=Europe/Paris:20251113T140000
DTEND;TZID=Europe/Paris:20251113T140000
DTSTAMP:20260426T012752
CREATED:20250921T115847Z
LAST-MODIFIED:20250921T115851Z
UID:10073-1763042400-1763042400@ccrm41.fr
SUMMARY:Pour une alimentation durable
DESCRIPTION:Les ateliers se dérouleront les jeudis 9 octobre\, 23 octobre\, 13 novembre et 11 décembre à 14h à Romorantin-Lanthenay (41). D’autres ateliers auront lieux sur l’année 2026. \nVenez découvrir en quoi consiste ce programme le jeudi 9 octobre à 14h sur notre stand\, rendez-vous au magasin Biomonde ; Rue de Plaisance à Romorantin-Lanthenay (41). \nTarif : gratuit. \nRéservation : Places limitées. \n\nPour les inscriptions\, merci de suivre ces liens : \nJeudi 9 octobre 2025 : https://www.sologne-nature.org/agenda/pour-une-alimentation-durable-lancement-du-programme/2025-10-09-14-00\nJeudi 23 octobre 2025 : https://www.sologne-nature.org/agenda/pour-une-alimentation-durable-fabrication-de-produits-cosmetiques-et-menagers/2025-10-23-14-00\nJeudi 13 novembre 2025 : https://www.sologne-nature.org/agenda/pour-une-alimentation-durable-cuisine-antigaspi/2025-11-13-14-00\nJeudi 11 décembre 2025 : https://www.sologne-nature.org/agenda/pour-une-alimentation-durable-les-contenants-et-ustensiles-sains/2025-12-11-14-00
URL:https://ccrm41.fr/event/pour-une-alimentation-durable-3/
LOCATION:Romorantin-Lanthenay\, Romorantin Lanthenay\, 41200\, France
ATTACH;FMTTYPE=image/png:https://ccrm41.fr/wp-content/uploads/2025/09/affiche_defi_alimentation_biomonde_2025.png
END:VEVENT
BEGIN:VEVENT
DTSTART;TZID=Europe/Paris:20251116T083000
DTEND;TZID=Europe/Paris:20251116T180000
DTSTAMP:20260426T012752
CREATED:20251026T112942Z
LAST-MODIFIED:20251027T130128Z
UID:10750-1763281800-1763316000@ccrm41.fr
SUMMARY:Journée Pêche d'étang au Grand Liot
DESCRIPTION:Venez vivre une journée conviviale autour de la pêche et de la nature ! \nAu programme : \n-Animations gratuites de la CCRM : visite du domaine et géocaching-Découverte du mouton de Sologne avec Sologn’sheep-Balade à cheval avec les Écuries des Noues-Parcours sensoriel avec la ferme pédagogique Graine de Canailles \n-Buvette \nLe restaurant Rayon de Sologne vous propose un délicieux menu de poisson : \nFormule plat/dessert : Filet de perche au beurre blanc\, légumes d’automne et mousse au chocolat – 20€ \nÀ la carte : Filet de perche et légumes – 16€📞 Réservation conseillée au 02 34 33 11 39
URL:https://ccrm41.fr/event/journee-peche-detang-au-grand-liot/
LOCATION:Rayon de Sologne\, 2380 route de Romorantin\, Landon-sur-Cher\, 41320\, France
ATTACH;FMTTYPE=image/jpeg:https://ccrm41.fr/wp-content/uploads/2025/10/Affiche-Grand-Liot-peche-detang-VF.jpg
END:VEVENT
BEGIN:VEVENT
DTSTART;TZID=Europe/Paris:20251116T120000
DTEND;TZID=Europe/Paris:20251116T120000
DTSTAMP:20260426T012752
CREATED:20251112T160812Z
LAST-MODIFIED:20251112T160831Z
UID:11161-1763294400-1763294400@ccrm41.fr
SUMMARY:MATCH LOISIR SÉNIOR - HOCKEY SUR GLACE
DESCRIPTION:ROMO vs MONT-DORE (Les Goupils du Sancy) \n\n\n \n\n\n🎟️ Entrée gratuite\n\n\n🚪 Accès par l’arrière de la patinoire
URL:https://ccrm41.fr/event/match-loisir-senior-hockey-sur-glace/
LOCATION:Complexe Alain Calmat\, 16 Avenue de Paris\, Romorantin-Lanthenay\, 41200
ATTACH;FMTTYPE=image/jpeg:https://ccrm41.fr/wp-content/uploads/2025/11/1000009854.jpg
END:VEVENT
BEGIN:VEVENT
DTSTART;TZID=Europe/Paris:20251116T160000
DTEND;TZID=Europe/Paris:20251116T160000
DTSTAMP:20260426T012752
CREATED:20251110T084604Z
LAST-MODIFIED:20251110T084721Z
UID:11142-1763308800-1763308800@ccrm41.fr
SUMMARY:Concert Église Saint-Étienne
DESCRIPTION:
URL:https://ccrm41.fr/event/concert-eglise-saint-etienne/
LOCATION:Eglise Saint-Etienne\, Romorantin-Lanthenay\, 41200
ATTACH;FMTTYPE=image/jpeg:https://ccrm41.fr/wp-content/uploads/2025/11/Screenshot_20251019_094603_OneDrive.jpg
END:VEVENT
BEGIN:VEVENT
DTSTART;TZID=Europe/Paris:20251117T193000
DTEND;TZID=Europe/Paris:20251117T213000
DTSTAMP:20260426T012752
CREATED:20251002T145830Z
LAST-MODIFIED:20251002T150144Z
UID:10267-1763407800-1763415000@ccrm41.fr
SUMMARY:Secrets de la forêt : apprendre à reconnaître les champignons
DESCRIPTION:La CPTS Sologne Vallée-du-Cher vous invite à une conférence gratuite et ouverte à tous ! \nAu programme :\n1️⃣ Une conférence pour découvrir le monde fascinant des champignons\n2️⃣ Un atelier pratique pour apprendre à mieux les reconnaître et déterminer les genres \nAnimée par Claudy Jolivet & Grégory Sordon\, mycologues de la Société d’histoire naturelle du Loir-et-Cher. \nPlaces limitées ! \nCette conférence se fait sur inscription : https://framaforms.org/conference-publique-secrets-de-la-foret-apprendre-a-reconnaitre-les-champignons-lundi-17-novembre\nInscrivez-vous également en flashant le QR code de l’affiche ci-dessous ou par mail : cpts.svc@gmail.com
URL:https://ccrm41.fr/event/secrets-de-la-foret-apprendre-a-reconnaitre-les-champignons/
LOCATION:La Fabrique Normant\, 2 av François Mitterrand\, Romorantin-Lanthenay
ATTACH;FMTTYPE=image/png:https://ccrm41.fr/wp-content/uploads/2025/10/thumbnail_Conference-Mycologie-1.png
END:VEVENT
BEGIN:VEVENT
DTSTART;TZID=Europe/Paris:20251118T183000
DTEND;TZID=Europe/Paris:20251118T183000
DTSTAMP:20260426T012752
CREATED:20251022T143815Z
LAST-MODIFIED:20251022T143926Z
UID:10625-1763490600-1763490600@ccrm41.fr
SUMMARY:🎬 Ciné-Dégustation - Séance gratuite ouverte à tous
DESCRIPTION:Dans le cadre de son Projet Alimentaire de Territoire\, le Pays de la Vallée du Cher et du Romorantinais vous propose des soirées ciné-dégustation gratuites et ouvertes à tous à l’occasion du Festival AlimenTERRE\, pour promouvoir une agriculture et une alimentation plus durable. \nCes temps seront l’occasion de se retrouver autour de la question des modes d’alimentation et de suivre Thomas Sotto\, journaliste TV et animateur radio\, dans son voyage à travers la France à la poursuite de bonnes idées pour mieux se nourrir demain. \nLe Pays de la Vallée du Cher et du Romorantinais vous invite donc à la diffusion du film :\n« On mange quoi ? Des idées pour mieux se nourrir demain » \nSynopsis du film :\n« Qu’est-ce qu’on mange ? Cette question nous la posons depuis… depuis toujours en fait. Se nourrir\, nourrir ses enfants\, c’est la première des priorités. Pendant des siècles\, nos modes d’alimentation n’ont pas beaucoup évolué. Mais ces 50 dernières années\, notre façon de manger a été totalement bouleversée. Nos repas sont devenus plus variés\, plus accessibles\, plus rapides. Or cette opulence alimentaire a un prix : à elle seule\, l’alimentation représente un quart de nos émissions de gaz à effet de serre. » \nℹ️ Plus d’infos : 📧 pat@pvcr41.fr \n📞 02 54 97 70 33
URL:https://ccrm41.fr/event/%f0%9f%8e%ac-cine-degustation-seance-gratuite-ouverte-a-tous/
LOCATION:Salle des fêtes\, Loreux\, 41200
ATTACH;FMTTYPE=image/png:https://ccrm41.fr/wp-content/uploads/2025/10/18.11-LOREUX.png
END:VEVENT
BEGIN:VEVENT
DTSTART;TZID=Europe/Paris:20251120T090000
DTEND;TZID=Europe/Paris:20251120T110000
DTSTAMP:20260426T012752
CREATED:20251022T134355Z
LAST-MODIFIED:20251022T134401Z
UID:10618-1763629200-1763636400@ccrm41.fr
SUMMARY:Embellissez votre quartier !
DESCRIPTION:Dans le cadre de nos actions Politique de la Ville\, nous vous invitons à participer à des ateliers créatifs et participatifs autour du projet « Embellissez votre quartier ». \n📍 Jeudi 6 novembre – 9h à 11h\n📍 Jeudi 20 novembre – 9h à 11h\n📍 Jeudi 4 décembre – 9h à 11h\n📌 Maison de quartier des Favignolles \nLes ambassadeurs du tri de la CCRM ♻️ seront présents pour sensibiliser au tri des déchets tout en laissant libre cours à votre créativité ! 💡 \nGratuit et ouvert à toutes et tous !
URL:https://ccrm41.fr/event/embellissez-votre-quartier-2/
LOCATION:Maison de quartier des Favignolles\, Romorantin-Lanthenay\, 41200
ATTACH;FMTTYPE=image/jpeg:https://ccrm41.fr/wp-content/uploads/2025/10/affiche-ateliers-projet-Embellisez-votre-quartier_page-0001.jpg
END:VEVENT
BEGIN:VEVENT
DTSTART;TZID=Europe/Paris:20251123T120000
DTEND;TZID=Europe/Paris:20251123T120000
DTSTAMP:20260426T012752
CREATED:20251120T154826Z
LAST-MODIFIED:20251120T154830Z
UID:11258-1763899200-1763899200@ccrm41.fr
SUMMARY:MATCH LOISIR SENIOR - HOCKEY SUR GLACE
DESCRIPTION:🔥 Romorantin vs Le Mans \n🎟️ Entrée gratuite\n🚪 Accès par l’arrière de la patinoire
URL:https://ccrm41.fr/event/match-loisir-senior-hockey-sur-glace-2/
LOCATION:Complexe Alain Calmat\, 16 Avenue de Paris\, Romorantin-Lanthenay\, 41200
ATTACH;FMTTYPE=image/jpeg:https://ccrm41.fr/wp-content/uploads/2025/11/1000010186.jpg
END:VEVENT
BEGIN:VEVENT
DTSTART;TZID=Europe/Paris:20251125T173000
DTEND;TZID=Europe/Paris:20251125T173000
DTSTAMP:20260426T012752
CREATED:20251027T132220Z
LAST-MODIFIED:20251108T193303Z
UID:10901-1764091800-1764091800@ccrm41.fr
SUMMARY:Balade thermographique à Saint-Julien-sur-Cher
DESCRIPTION:Découvrez les déperditions de chaleur de votre habitation grâce à une balade thermographique. \nProgramme : \n🔥 Balade thermographique 17h30 à 18h45Sur inscription au 02 54 94 05 15 (places limitées)Avant le 24/11/2025 \n💡 Conférence sur la rénovation énergétique 19h – Salle des fêtes 23 bis\, rue des Varannes – 41320 Saint-Julien-sur-Cher Ouvert à tous – Sans inscription
URL:https://ccrm41.fr/event/balade-thermographique-a-saint-julien-sur-cher/
LOCATION:Saint-Julien-sur-Cher
ATTACH;FMTTYPE=image/jpeg:https://ccrm41.fr/wp-content/uploads/2025/10/Affiche-balade-thermo-St-Julien-V5_page-0001.jpg
END:VEVENT
BEGIN:VEVENT
DTSTART;TZID=Europe/Paris:20251128T180000
DTEND;TZID=Europe/Paris:20251128T180000
DTSTAMP:20260426T012752
CREATED:20251017T110832Z
LAST-MODIFIED:20251017T110955Z
UID:10478-1764352800-1764352800@ccrm41.fr
SUMMARY:Soirée Ciné-Débat-Semaine de lutte contre les violences faites aux femmes
DESCRIPTION:Dans le cadre de la Semaine de lutte contre les violences faites aux femmes\, le CLS de la CCRM vous invite à une soirée ciné-débat :\n« Il suffit d’écouter les femmes » \nLa projection sera suivie de l’intervention de Agnès Dubreuil\, infirmière\, pour un moment d’échange et de réflexion.
URL:https://ccrm41.fr/event/soiree-cine-debat-semaine-de-lutte-contre-les-violences-faites-aux-femmes/
LOCATION:Auditorium Joseph Gaveau 2 avenue François Mitterrand\, Romorantin-Lanthenay\, 41200\, France
ATTACH;FMTTYPE=image/jpeg:https://ccrm41.fr/wp-content/uploads/2025/10/affiche-violence-faites-aux-femmes_page-0001.jpg
END:VEVENT
BEGIN:VEVENT
DTSTART;TZID=Europe/Paris:20251128T180000
DTEND;TZID=Europe/Paris:20251128T180000
DTSTAMP:20260426T012752
CREATED:20251022T144249Z
LAST-MODIFIED:20251022T144541Z
UID:10634-1764352800-1764352800@ccrm41.fr
SUMMARY:🎬 Ciné-Dégustation - Séance gratuite ouverte à tous
DESCRIPTION:Dans le cadre de son Projet Alimentaire de Territoire\, le Pays de la Vallée du Cher et du Romorantinais vous propose des soirées ciné-dégustation gratuites et ouvertes à tous à l’occasion du Festival AlimenTERRE\, pour promouvoir une agriculture et une alimentation plus durable. \nCes temps seront l’occasion de se retrouver autour de la question des modes d’alimentation et de suivre Thomas Sotto\, journaliste TV et animateur radio\, dans son voyage à travers la France à la poursuite de bonnes idées pour mieux se nourrir demain. \nLe Pays de la Vallée du Cher et du Romorantinais vous invite donc à la diffusion du film :\n« On mange quoi ? Des idées pour mieux se nourrir demain » \nSynopsis du film :\n« Qu’est-ce qu’on mange ? Cette question nous la posons depuis… depuis toujours en fait. Se nourrir\, nourrir ses enfants\, c’est la première des priorités. Pendant des siècles\, nos modes d’alimentation n’ont pas beaucoup évolué. Mais ces 50 dernières années\, notre façon de manger a été totalement bouleversée. Nos repas sont devenus plus variés\, plus accessibles\, plus rapides. Or cette opulence alimentaire a un prix : à elle seule\, l’alimentation représente un quart de nos émissions de gaz à effet de serre. » \nℹ️ Plus d’infos : 📧 pat@pvcr41.fr \n📞 02 54 97 70 33
URL:https://ccrm41.fr/event/%f0%9f%8e%ac-cine-degustation-seance-gratuite-ouverte-a-tous-2/
LOCATION:Bibliothèque municipale\, Villefranche-sur-Cher\, 41200
ATTACH;FMTTYPE=image/png:https://ccrm41.fr/wp-content/uploads/2025/10/28.11-VILLEFRANCHE.png
END:VEVENT
END:VCALENDAR