BEGIN:VCALENDAR
VERSION:2.0
PRODID:-//Communauté de Communes Romorantinais et Monestois - ECPv6.15.20//NONSGML v1.0//EN
CALSCALE:GREGORIAN
METHOD:PUBLISH
X-WR-CALNAME:Communauté de Communes Romorantinais et Monestois
X-ORIGINAL-URL:https://ccrm41.fr
X-WR-CALDESC:Évènements pour Communauté de Communes Romorantinais et Monestois
REFRESH-INTERVAL;VALUE=DURATION:PT1H
X-Robots-Tag:noindex
X-PUBLISHED-TTL:PT1H
BEGIN:VTIMEZONE
TZID:Europe/Paris
BEGIN:DAYLIGHT
TZOFFSETFROM:+0100
TZOFFSETTO:+0200
TZNAME:CEST
DTSTART:20250330T010000
END:DAYLIGHT
BEGIN:STANDARD
TZOFFSETFROM:+0200
TZOFFSETTO:+0100
TZNAME:CET
DTSTART:20251026T010000
END:STANDARD
BEGIN:DAYLIGHT
TZOFFSETFROM:+0100
TZOFFSETTO:+0200
TZNAME:CEST
DTSTART:20260329T010000
END:DAYLIGHT
BEGIN:STANDARD
TZOFFSETFROM:+0200
TZOFFSETTO:+0100
TZNAME:CET
DTSTART:20261025T010000
END:STANDARD
BEGIN:DAYLIGHT
TZOFFSETFROM:+0100
TZOFFSETTO:+0200
TZNAME:CEST
DTSTART:20270328T010000
END:DAYLIGHT
BEGIN:STANDARD
TZOFFSETFROM:+0200
TZOFFSETTO:+0100
TZNAME:CET
DTSTART:20271031T010000
END:STANDARD
END:VTIMEZONE
BEGIN:VEVENT
DTSTART;TZID=Europe/Paris:20260302T000000
DTEND;TZID=Europe/Paris:20260313T000000
DTSTAMP:20260425T190317
CREATED:20260226T135914Z
LAST-MODIFIED:20260226T140117Z
UID:12222-1772409600-1773360000@ccrm41.fr
SUMMARY:Mois des Droits des Femmes - Du 2 au 13 mars 2026
DESCRIPTION:À l’occasion de la 8ᵉ édition du Mois des Droits des Femmes à Romorantin‑Lanthenay\, découvrez l’ensemble des animations\, rendez‑vous et temps forts organisés sur la ville. \n\n👉 Programme complet en ligne :\nhttps://www.calameo.com/read/007437448d4374ad909c0 \nDe nombreux partenaires se mobilisent pour proposer des ateliers\, expositions\, rencontres et actions de sensibilisation.
URL:https://ccrm41.fr/event/mois-des-droits-des-femmes-du-2-au-13-mars-2026/
LOCATION:Romorantin-Lanthenay\, Romorantin Lanthenay\, 41200\, France
ATTACH;FMTTYPE=image/jpeg:https://ccrm41.fr/wp-content/uploads/2026/02/Affiche-8-mars-2026-Romo_page-0001.jpg
END:VEVENT
BEGIN:VEVENT
DTSTART;TZID=Europe/Paris:20260302T140000
DTEND;TZID=Europe/Paris:20260302T163000
DTSTAMP:20260425T190317
CREATED:20251209T103836Z
LAST-MODIFIED:20251209T103841Z
UID:11503-1772460000-1772469000@ccrm41.fr
SUMMARY:En route vers le numérique !
DESCRIPTION:📢 Vous avez 60 ans ou plus ? Profitez d’un programme gratuit pour vous familiariser avec le numérique. \n8 séances de 2h30 \n➡️ Début du programme : 12 janvier 2026➡️ Toutes les séances de 14h à 16h30 : \n\n12 janvier 2026\n19 janvier 2026\n26 janvier 2026\n2 février 2026\n9 février 2026\n2 mars 2026\n9 mars 2026\n16 mars 2026\n\n📍 Espace Robert Serrault34 Mail des Platanes – Romorantin-Lanthenay \n👉 Renseignements et inscription (obligatoire)📞 Contactez Matha Bachelier au 06 21 35 37 52 \nEn partenariat avec la Mutualité Française
URL:https://ccrm41.fr/event/en-route-vers-le-numerique-5/
LOCATION:Espace Robert Serrault\, 34 Mail des Platanes\, Romorantin-Lanthenay\, 41200
ATTACH;FMTTYPE=image/jpeg:https://ccrm41.fr/wp-content/uploads/2025/12/EN-ROUTE-VERS-LE-NUMERIQUE-2026-FLYER_page-0001.jpg
END:VEVENT
BEGIN:VEVENT
DTSTART;TZID=Europe/Paris:20260309T140000
DTEND;TZID=Europe/Paris:20260309T163000
DTSTAMP:20260425T190317
CREATED:20251209T103910Z
LAST-MODIFIED:20251209T103912Z
UID:11505-1773064800-1773073800@ccrm41.fr
SUMMARY:En route vers le numérique !
DESCRIPTION:📢 Vous avez 60 ans ou plus ? Profitez d’un programme gratuit pour vous familiariser avec le numérique. \n8 séances de 2h30 \n➡️ Début du programme : 12 janvier 2026➡️ Toutes les séances de 14h à 16h30 : \n\n12 janvier 2026\n19 janvier 2026\n26 janvier 2026\n2 février 2026\n9 février 2026\n2 mars 2026\n9 mars 2026\n16 mars 2026\n\n📍 Espace Robert Serrault34 Mail des Platanes – Romorantin-Lanthenay \n👉 Renseignements et inscription (obligatoire)📞 Contactez Matha Bachelier au 06 21 35 37 52 \nEn partenariat avec la Mutualité Française
URL:https://ccrm41.fr/event/en-route-vers-le-numerique-6/
LOCATION:Espace Robert Serrault\, 34 Mail des Platanes\, Romorantin-Lanthenay\, 41200
ATTACH;FMTTYPE=image/jpeg:https://ccrm41.fr/wp-content/uploads/2025/12/EN-ROUTE-VERS-LE-NUMERIQUE-2026-FLYER_page-0001.jpg
END:VEVENT
BEGIN:VEVENT
DTSTART;TZID=Europe/Paris:20260316T140000
DTEND;TZID=Europe/Paris:20260316T163000
DTSTAMP:20260425T190317
CREATED:20251209T103940Z
LAST-MODIFIED:20251209T103946Z
UID:11507-1773669600-1773678600@ccrm41.fr
SUMMARY:En route vers le numérique !
DESCRIPTION:📢 Vous avez 60 ans ou plus ? Profitez d’un programme gratuit pour vous familiariser avec le numérique. \n8 séances de 2h30 \n➡️ Début du programme : 12 janvier 2026➡️ Toutes les séances de 14h à 16h30 : \n\n12 janvier 2026\n19 janvier 2026\n26 janvier 2026\n2 février 2026\n9 février 2026\n2 mars 2026\n9 mars 2026\n16 mars 2026\n\n📍 Espace Robert Serrault34 Mail des Platanes – Romorantin-Lanthenay \n👉 Renseignements et inscription (obligatoire)📞 Contactez Matha Bachelier au 06 21 35 37 52 \nEn partenariat avec la Mutualité Française
URL:https://ccrm41.fr/event/en-route-vers-le-numerique-7/
LOCATION:Espace Robert Serrault\, 34 Mail des Platanes\, Romorantin-Lanthenay\, 41200
ATTACH;FMTTYPE=image/jpeg:https://ccrm41.fr/wp-content/uploads/2025/12/EN-ROUTE-VERS-LE-NUMERIQUE-2026-FLYER_page-0001.jpg
END:VEVENT
BEGIN:VEVENT
DTSTART;TZID=Europe/Paris:20260321T000000
DTEND;TZID=Europe/Paris:20260322T000000
DTSTAMP:20260425T190317
CREATED:20260316T191627Z
LAST-MODIFIED:20260316T191627Z
UID:12273-1774051200-1774137600@ccrm41.fr
SUMMARY:Coupe de la Salamandre - championnat de ligue
DESCRIPTION:En raison de l’organisation de la Coupe de la Salamandre (compétition de patinage artistique)\, la patinoire sera fermée au public : \nHoraires de la compétition : \n• Samedi : 14h00 – 19h15\n• Dimanche : 8h30 – 16h00\n👉 Podiums à l’issue de la compétition \n🎟️ Entrée libre et buvette sur place
URL:https://ccrm41.fr/event/coupe-de-la-salamandre-championnat-de-ligue/
LOCATION:Complexe Alain Calmat\, 16 Avenue de Paris\, Romorantin-Lanthenay\, 41200
ATTACH;FMTTYPE=image/jpeg:https://ccrm41.fr/wp-content/uploads/2026/03/Affiche.jpg
END:VEVENT
BEGIN:VEVENT
DTSTART;TZID=Europe/Paris:20260325T090000
DTEND;TZID=Europe/Paris:20260325T160000
DTSTAMP:20260425T190317
CREATED:20260310T131050Z
LAST-MODIFIED:20260310T131053Z
UID:12251-1774429200-1774454400@ccrm41.fr
SUMMARY:Trouve ton plan A | Forum Apprentissage et Accompagnement Personnalisé
DESCRIPTION:En 2026\, l’évènement apprentissage #TrouveTonPlanA est organisé dans chaque arrondissement du @LoiretCher ! \n👉Tu as entre 15 et 30 ans et tu cherches à faire de l’apprentissage ton avenir ? Rejoins-nous le mercredi 25 mars 2026\, à la Maison de l’emploi de Romorantin-Lanthenay\, pour une journée\ndédiée à ton accompagnement personnalisé vers l’apprentissage ! \n🎯Au programme :\nDes ateliers pratiques pour apprendre à te présenter\, créer ton CV\, et découvrir les aides possibles à la mobilité et au logement.\nDes stands avec de nombreux CFA et lycées pro pour t’aider à trouver l’apprentissage qui te correspond !\nDes rencontres avec des conseillers et des professionnels de l’apprentissage qui t’aideront à définir ton parcours. \nPourquoi venir ? \nTu repartiras avec des solutions concrètes pour réussir ton entrée en apprentissage\, du CAP au Bac+5 ! \n🔍Les partenaires présents :\nBTP CFA\, CCI Campus\, CMA formation\, CFAI\, CFASMS et IFSI-IFAS\, CFA agricoles\,\nPromotrans… Lycées Pro Ampère\, Badinter\, Camille Claudel\, LEAP Boissay\, UFA Val de\nCher Saint Aignan..\, Mission Locale\, France Travail\, Mobilité 41\, Action logement\, FJT La\nMAJO – HTH\, InfoJeunes41\, CIO\, SPRO\, service jeunesse… \nMaison de l’emploi\, 3 rue Jean Monnet\, Romorantin-Lanthenay\n9h à 12h30 – 13h30 à 16h\nGratuit et ouvert à tous !
URL:https://ccrm41.fr/event/trouve-ton-plan-a-forum-apprentissage-et-accompagnement-personnalise/
LOCATION:Maison de l’emploi\, Romorantin-Lanthenay\, 41200
ATTACH;FMTTYPE=image/jpeg:https://ccrm41.fr/wp-content/uploads/2026/03/Trouve-ton-plan-A.-Maison-de-lEmploi-Romorantin-25-03-2026_page-0001.jpg
END:VEVENT
BEGIN:VEVENT
DTSTART;TZID=Europe/Paris:20260328T000000
DTEND;TZID=Europe/Paris:20260328T000000
DTSTAMP:20260425T190317
CREATED:20260324T164624Z
LAST-MODIFIED:20260325T121517Z
UID:12395-1774656000-1774656000@ccrm41.fr
SUMMARY:Braderie de printemps en centre ville
DESCRIPTION:
URL:https://ccrm41.fr/event/braderie-de-printemps-en-centre-ville/
LOCATION:Centre ville\, Romorantin-Lanthenay\, 41200
ATTACH;FMTTYPE=image/jpeg:https://ccrm41.fr/wp-content/uploads/2026/03/d0387b8f-46a9-4bd3-a082-9b582471eab3.jpg
END:VEVENT
BEGIN:VEVENT
DTSTART;TZID=Europe/Paris:20260329T100000
DTEND;TZID=Europe/Paris:20260329T170000
DTSTAMP:20260425T190317
CREATED:20260319T144303Z
LAST-MODIFIED:20260325T121420Z
UID:12372-1774778400-1774803600@ccrm41.fr
SUMMARY:Fête des plantes et marché artisanal et gourmand à Mur-de-Sologne
DESCRIPTION:Le dimanche 29 mars\, rendez‑vous au stade municipal pour une journée conviviale organisée par le Tennis Club Murois ! \n👉 Au programme : \nMarché artisanal et gourmand\nExposition de véhicules anciens\nBuvette et restauration sur place \n💶 2\,5 € le mètre pour les exposants\n📞 Inscriptions obligatoires : 06 80 06 01 88
URL:https://ccrm41.fr/event/fete-des-plantes-et-marche-artisanal-et-gourmand-a-mur-de-sologne/
LOCATION:Mur de Sologne\, Mur-de-Sologne\, 41230
ATTACH;FMTTYPE=image/jpeg:https://ccrm41.fr/wp-content/uploads/2026/03/Screenshot_20260128_214053_Facebook.jpg
END:VEVENT
END:VCALENDAR